BEGIN:VCALENDAR
VERSION:2.0
PRODID:-//Habitat for Humanity Vail Valley - ECPv6.15.18//NONSGML v1.0//EN
CALSCALE:GREGORIAN
METHOD:PUBLISH
X-ORIGINAL-URL:https://habitatvailvalley.org
X-WR-CALDESC:Events for Habitat for Humanity Vail Valley
REFRESH-INTERVAL;VALUE=DURATION:PT1H
X-Robots-Tag:noindex
X-PUBLISHED-TTL:PT1H
BEGIN:VTIMEZONE
TZID:America/Chicago
BEGIN:DAYLIGHT
TZOFFSETFROM:-0600
TZOFFSETTO:-0500
TZNAME:CDT
DTSTART:20250309T080000
END:DAYLIGHT
BEGIN:STANDARD
TZOFFSETFROM:-0500
TZOFFSETTO:-0600
TZNAME:CST
DTSTART:20251102T070000
END:STANDARD
BEGIN:DAYLIGHT
TZOFFSETFROM:-0600
TZOFFSETTO:-0500
TZNAME:CDT
DTSTART:20260308T080000
END:DAYLIGHT
BEGIN:STANDARD
TZOFFSETFROM:-0500
TZOFFSETTO:-0600
TZNAME:CST
DTSTART:20261101T070000
END:STANDARD
BEGIN:DAYLIGHT
TZOFFSETFROM:-0600
TZOFFSETTO:-0500
TZNAME:CDT
DTSTART:20270314T080000
END:DAYLIGHT
BEGIN:STANDARD
TZOFFSETFROM:-0500
TZOFFSETTO:-0600
TZNAME:CST
DTSTART:20271107T070000
END:STANDARD
END:VTIMEZONE
BEGIN:VEVENT
DTSTART;TZID=America/Chicago:20260326T170000
DTEND;TZID=America/Chicago:20260326T193000
DTSTAMP:20260423T071706
CREATED:20251222T185819Z
LAST-MODIFIED:20260213T230724Z
UID:15229-1774544400-1774553400@habitatvailvalley.org
SUMMARY:Finding our Way Home: Collaborative Solutions / Encontrando Nuestro Camino a Casa
DESCRIPTION:Organizing for Action / organizandose para la accion \nCommunity Meetings for Solutions \nHousing is unaffordable for many people in Eagle County. What can we do to change that?  \nTo solve this big wicked problem\, we’ll need to collaborate across different sectors\, beliefs\, and political positions. It will take all of us. \nDuring these 4 community meetings\, we’ll set a common vision\, dive into data\, tell the stories behind the data\, and develop solutions to turn the curve on the housing crisis. Then we’ll organize action teams around those strategies to make change happen. \nLet us know you’re coming RSVP  \nWe want to hear from you to build a unifying 25 year vision for Eagle County. \n  \n 
URL:https://habitatvailvalley.org/event/finding-our-way-home-collaborative-solutions-for-housing-in-eagle-county-2/
LOCATION:Berry Creek Middle School\, 1000 Miller Ranch Road\, Edwards\, United States
CATEGORIES:Community Event,Habitat Vail Valley Event
ATTACH;FMTTYPE=image/png:https://habitatvailvalley.org/wp-content/uploads/2025/12/HFH354-Convening-Collab-IG-2-Eng-scaled.png
ORGANIZER;CN="Habitat Vail Valley":MAILTO:info@habitatvailvalley.org
END:VEVENT
END:VCALENDAR